BEGIN:VCALENDAR
VERSION:2.0
PRODID:-//ATD Savinjčan - ECPv6.15.20//NONSGML v1.0//EN
CALSCALE:GREGORIAN
METHOD:PUBLISH
X-WR-CALNAME:ATD Savinjčan
X-ORIGINAL-URL:https://www.atdsavinjcan.eu
X-WR-CALDESC:Events for ATD Savinjčan
REFRESH-INTERVAL;VALUE=DURATION:PT1H
X-Robots-Tag:noindex
X-PUBLISHED-TTL:PT1H
BEGIN:VTIMEZONE
TZID:UTC
BEGIN:STANDARD
TZOFFSETFROM:+0000
TZOFFSETTO:+0000
TZNAME:UTC
DTSTART:20240101T000000
END:STANDARD
END:VTIMEZONE
BEGIN:VEVENT
DTSTART;TZID=UTC:20250607T180000
DTEND;TZID=UTC:20250607T180000
DTSTAMP:20260423T103626
CREATED:20250201T163750Z
LAST-MODIFIED:20250808T132158Z
UID:5633-1749319200-1749319200@www.atdsavinjcan.eu
SUMMARY:Runfest 2025
DESCRIPTION:RUNFEST 2025 – 11. Savinjska pivo milja\nKDAJ: sobota\, 7. junij 2025 ob 18:30 uri \nKJE: športni center Žalec \nORGANIZATOR: Savinjska skušnjava v sodelovanju z ATD Savinjčan \nURNIK IN DISCIPLINE:  \nDiscipline: \n\n18:30 uri: DRUŽINSKA ŠTAFETA 400m (200m starš/skrbnik+ 200m otrok)\n18:45 uri: ČOKO »MILJA« – za otroke\n19:00: PIVO MILJA DVOJIC\n19:20 uri: SAVINJSKA PIVO MILJA – POSAMEZNO\n19:40 uri: FUN PIVO MILJA DVOJICE »EXTRA SOLO« (eden pije\, drugi teče)\n\nPredprijave na https://prijave.k6trail.eu/race/runfest-2025/detail \nVse informacije o dogodku najdete tukaj \nREZULTATI:\n \nČokomilja Dekleta \nČokomilja Fantje \nPivomilja Dvojice \nPivomilja fun – extra solo \nPivomilja Solo
URL:https://www.atdsavinjcan.eu/events/runfest-2025/
LOCATION:Športni center Žalec\, Mestni trg 3\, Žalec\, 3310\, Slovenia
CATEGORIES:Runfest
END:VEVENT
END:VCALENDAR