BEGIN:VCALENDAR
VERSION:2.0
PRODID:-//ATD Savinjčan - ECPv6.15.20//NONSGML v1.0//EN
CALSCALE:GREGORIAN
METHOD:PUBLISH
X-WR-CALNAME:ATD Savinjčan
X-ORIGINAL-URL:https://www.atdsavinjcan.eu
X-WR-CALDESC:Events for ATD Savinjčan
REFRESH-INTERVAL;VALUE=DURATION:PT1H
X-Robots-Tag:noindex
X-PUBLISHED-TTL:PT1H
BEGIN:VTIMEZONE
TZID:UTC
BEGIN:STANDARD
TZOFFSETFROM:+0000
TZOFFSETTO:+0000
TZNAME:UTC
DTSTART:20250101T000000
END:STANDARD
END:VTIMEZONE
BEGIN:VEVENT
DTSTART;TZID=UTC:20260606T180000
DTEND;TZID=UTC:20260606T180000
DTSTAMP:20260417T025744
CREATED:20250806T183001Z
LAST-MODIFIED:20250808T132102Z
UID:5914-1780768800-1780768800@www.atdsavinjcan.eu
SUMMARY:12. Runfest - Savinjska Pivo Milja 2026
DESCRIPTION:RUNFEST 2026 – 12. Savinjska pivo milja\nKDAJ: sobota\, 6. junij 2026 ob 18:30 uri \nKJE: športni center Žalec \nORGANIZATOR: Savinjska skušnjava v sodelovanju z ATD Savinjčan \nURNIK IN DISCIPLINE:  \nDiscipline: \n\n18:30 uri: DRUŽINSKA ŠTAFETA 400m (200m starš/skrbnik+ 200m otrok)\n18:45 uri: ČOKO »MILJA« – za otroke\n19:00: PIVO MILJA DVOJIC\n19:20 uri: SAVINJSKA PIVO MILJA – POSAMEZNO\n19:40 uri: FUN PIVO MILJA DVOJICE »EXTRA SOLO« (eden pije\, drugi teče)\n\nPredprijave na https://prijave.k6trail.eu/ \nVse informacije o dogodku najdete tukaj. \nREZULTATI:
URL:https://www.atdsavinjcan.eu/events/runfest-2026/
LOCATION:Športni center Žalec\, Mestni trg 3\, Žalec\, 3310\, Slovenia
CATEGORIES:Runfest
END:VEVENT
END:VCALENDAR