BEGIN:VCALENDAR
VERSION:2.0
PRODID:-//ATD Savinjčan - ECPv6.15.20//NONSGML v1.0//EN
CALSCALE:GREGORIAN
METHOD:PUBLISH
X-ORIGINAL-URL:https://www.atdsavinjcan.eu
X-WR-CALDESC:Events for ATD Savinjčan
REFRESH-INTERVAL;VALUE=DURATION:PT1H
X-Robots-Tag:noindex
X-PUBLISHED-TTL:PT1H
BEGIN:VTIMEZONE
TZID:UTC
BEGIN:STANDARD
TZOFFSETFROM:+0000
TZOFFSETTO:+0000
TZNAME:UTC
DTSTART:20240101T000000
END:STANDARD
END:VTIMEZONE
BEGIN:VEVENT
DTSTART;TZID=UTC:20260411T080000
DTEND;TZID=UTC:20260411T170000
DTSTAMP:20260422T031916
CREATED:20250801T082745Z
LAST-MODIFIED:20251218T213650Z
UID:5815-1775894400-1775926800@www.atdsavinjcan.eu
SUMMARY:6. Savinjski K6 Trail 2026
DESCRIPTION:
URL:https://www.atdsavinjcan.eu/events/savinjski-k6-trail-2026/
LOCATION:Letno gledališče Limberk\, Migojnice 130\, Griže\, 3302\, Slovenia
CATEGORIES:Runfest
END:VEVENT
BEGIN:VEVENT
DTSTART;TZID=UTC:20251102T100000
DTEND;TZID=UTC:20251102T230000
DTSTAMP:20260422T031916
CREATED:20250830T080036Z
LAST-MODIFIED:20251116T200634Z
UID:6078-1762077600-1762124400@www.atdsavinjcan.eu
SUMMARY:11. SAVINJSKA ZIMSKA TEKAŠKA LIGA 2025/2026
DESCRIPTION:11. SAVINJSKA ZIMSKA TEKAŠKA LIGA 2025/2026\nKDAJ: vsako 1. in 3. nedeljo v mesecu\, od 2. novembra\, do 15. marca ob 10:00 uri v vsakem vremenu ne glede na psihofizično stanje. \nKJE: štart pri nadvozu mavrica in atletskem stadionu Žalec (otroci). Pred štartom se dobimo v eni od garderob v športnem centru Žalec (atletski stadion). \nORGANIZATOR: ATD Savinjčan \n!!! POZOR !!!: Letos je nekoliko spremenjen vrstni red etap zaradi izrednih dogodkov na trasah (prenova mavrice) \nURNIK ETAP: \n\nEtapa: 02.11.2025 – Vrbensko jezero – otroci: 400m\nEtapa: 16.11.2025 – Vrbensko jezero kontra – otroci: 600m\nEtapa: 07.12.2025 – Mali krog – otroci: 1000m\nEtapa: 21.12.2025 – memorialna etapa »Bredina Rinka«  – otroci: 1500m\nEtapa: 04.01.2026 – Veliki krog – otroci: 2000m\nEtapa: 18.01.2026 – Plevno – otroci: 2000m\nEtapa: 01.02.2026 – Mali krog kontra – otroci: 1500m\nEtapa: 15.02.2026 – Rinka kontra – otroci: 1000m\nEtapa: 01.03.2026 – Veliki krog kontra – otroci: 600m\nEtapa: 15.03.2026 – Plevno kontra – otroci: 400m\n\nINFORMACIJE: \n\nPrehodna prijava ni potrebna\nŠtartnine ni\nMeritve izvaja ročno vsak tekač s svojo uro\nZ metanjem pikada je možno zmanjšati čas teka\nOtroški teki se izvajajo na atletskem stadionu Žalec\nPOMEMBNO: Vsi udeleženci tečejo na lastno odgovornost\n\nDodatne informacije o dogodku najdete v RAZPISU \nREZULTATI:\n \nRezultati – OTROCI \nRezultati – ŽENSKE \nRezultati – MOŠKI
URL:https://www.atdsavinjcan.eu/events/sztl_11/
LOCATION:Športni center Žalec\, Mestni trg 3\, Žalec\, 3310\, Slovenia
CATEGORIES:SZTL
END:VEVENT
BEGIN:VEVENT
DTSTART;TZID=UTC:20251004T080000
DTEND;TZID=UTC:20251004T170000
DTSTAMP:20260422T031916
CREATED:20250801T083846Z
LAST-MODIFIED:20251005T095041Z
UID:5818-1759564800-1759597200@www.atdsavinjcan.eu
SUMMARY:8. Juriš na Hmezad 2025
DESCRIPTION:  \n\n\n\n8. JURIŠ NA HMEZAD – 2025\n KDAJ: sobota\, 4. oktober 2025 ob 11:00 uri \nKJE: Stolpnica Hmezad Exim d.d. Žalec \nORGANIZATOR: ATD Savinjčan \nRAZPIS: TUKAJ \nŠTARTNINE: \n\nJuriš na hmezad: prostovoljni prispevki 20 EUR\nPolicija: prostovoljni prispevki 20 EUR\nGasilci: brezplačno!\nOtroci: prostovoljni prispevki 2 EUR\n\nKATEGORIJE:\n\nEnotna ženska in moška kategorija ODRASLI.\nEnotna ženska in moška kategorija GASILCI ter EKIPNO GASILCI  (za ekipni rezultat se šteje 2 gasilca+1 gasilka iz istega gasilskega društva)\nEnotna ženska in moška kategorija POLICIJA\nOTROCI I (fantje\, dekleta letnik 2015 in mlajši) ter OTROCI II (fantje\, dekleta letnik 2011-2014)\n\nNAGRADE:\n\nPokal za 1.\, 2.\, 3.\, 4.\, 5. in 6. mesto v moški in ženski kategoriji absolutno\nPokal za 1.\, medalje za 2. in 3. mesto v moški in ženski kategoriji GASILCI\, POLICIJA \nPokal za 1.\, 2. in 3. mesto EKIPNO GASILCI\nMedalje za 1.\, 2. in 3. mesto OTROCI I ter OTROCI II (fantje\, dekleta)\nVsi tekmovalci prejmejo spominske medalje!\n\nPRAVILA:\n\nŠtart poteka v intervalih po principu kronometra\, intervalni štart 60s .\nČe bo lepo vreme je štart zunaj stavbe (parkirišče\, do stopnišča cca 10m); v primeru slabega vremena je štart v stavbi\, pri vstopu v stopnišče.\nPrehitevanje je dovoljeno. V stavbi velja pravilo fair playa\, v kolikor je to mogoče se počasnejši umika vstran od ograje hitrejši prehiteva ob ograji.\nVzpenjaš se lahko kakorkoli ob pomoči rok\, nog in ograje.\nTeče se z vrečo hmelja (teža okrog 5 kg). Drugi pripomočki (npr. palice) niso dovoljeni. Velja le za kategorijo Juriš na Hmezad.\nOtroci tečejo brez bremena.\nPOLICIJSKA OPREMA: policijska obleka\, neprebojni jopič (vsak si priskrbi sam) .\nGASILSKA OPREMA: zaščitna čelada\, zaščitna obleka\, zaščitni škornji\, zaščitne rokavice\, izolirni dihalni aparat brez maske; opremo si priskrbi vsak sam oz. gasilsko društvo. Gasilci v zaščitni opremi tehtajo dodatno cca 10-15kg. Tekmuje se brez B-cevi!\nZa ekipno tekmo se štejejo rezultati treh najbolje uvrščenih tekmovalcev (gasilcev) pri čemer morata biti zastopana oba spola.\nCilj je v 15. nadstropju. Po počitku in razgledu po mestu Žalca se navzdol vrnemo s tovornim dvigalom.\n\nPRIJAVE:\n\nso ODPRTE in jih najdete TUKAJ. \nDokončen urnik bo narejen glede na število prijav udeležencev in bo objavljen pred začetkom tekmovanja.\n\n!!! Prijave so možne do PETKA 03.10.2025  23:59. Opozarjamo\, da zaradi oblikovanja štartne liste in nemotenega poteka tekmovanja\, kasnejših prijav ne moremo upoštevati !!! \n  \nREZULTATI:\n \nTek z nahrbtnikom \nOtroške kategorije \nGasilci \nPolicija
URL:https://www.atdsavinjcan.eu/events/juris-na-hmezad-2025/
LOCATION:Hmezad\, Vrečerjeva ulica 14\, Žalec\, 3310\, Slovenia
CATEGORIES:Juris Na Hmezad
END:VEVENT
BEGIN:VEVENT
DTSTART;TZID=UTC:20250607T180000
DTEND;TZID=UTC:20250607T180000
DTSTAMP:20260422T031916
CREATED:20250201T163750Z
LAST-MODIFIED:20250808T132158Z
UID:5633-1749319200-1749319200@www.atdsavinjcan.eu
SUMMARY:Runfest 2025
DESCRIPTION:RUNFEST 2025 – 11. Savinjska pivo milja\nKDAJ: sobota\, 7. junij 2025 ob 18:30 uri \nKJE: športni center Žalec \nORGANIZATOR: Savinjska skušnjava v sodelovanju z ATD Savinjčan \nURNIK IN DISCIPLINE:  \nDiscipline: \n\n18:30 uri: DRUŽINSKA ŠTAFETA 400m (200m starš/skrbnik+ 200m otrok)\n18:45 uri: ČOKO »MILJA« – za otroke\n19:00: PIVO MILJA DVOJIC\n19:20 uri: SAVINJSKA PIVO MILJA – POSAMEZNO\n19:40 uri: FUN PIVO MILJA DVOJICE »EXTRA SOLO« (eden pije\, drugi teče)\n\nPredprijave na https://prijave.k6trail.eu/race/runfest-2025/detail \nVse informacije o dogodku najdete tukaj \nREZULTATI:\n \nČokomilja Dekleta \nČokomilja Fantje \nPivomilja Dvojice \nPivomilja fun – extra solo \nPivomilja Solo
URL:https://www.atdsavinjcan.eu/events/runfest-2025/
LOCATION:Športni center Žalec\, Mestni trg 3\, Žalec\, 3310\, Slovenia
CATEGORIES:Runfest
END:VEVENT
END:VCALENDAR